BEGIN:VCALENDAR
PRODID:NingEventWidget-v1
VERSION:2.0
METHOD:PUBLISH
BEGIN:VEVENT
UID:3240163:Event:2579
DTSTAMP:20260422T051139Z
SUMMARY:Lakeland School Board meeting 9/15/2010
DESCRIPTION:Just to let all of you Lakeland Tea Partiers know your Lak
 eland School Board Meetings are held on the 3rd Wed of each month. The
 refore your next meeting will be held on 9/15/2010.\n\nI expect all of
  you to be there to ask the questions of these school directors to fin
 d out what they are doing about the marxist agenda that has infiltrate
 d our Public School systems. And to make sure that the Progressives ar
 en't able to continue their infiltration of our local school districts
 .\n\nWE MUST BE THE WATCHDOG FOR OUR CHILDREN SINCE WE NOW KNOW THAT T
 HE TEACHERS AND SHOOL BOARDS HAVE NOT BEEN!\n\nALL PATRIOTS MUST BE AT
  THERE LOCAL SCHOOL BOARD MEETINGS AND FIND OUT WHAT THE AGENDA IS FOR
  YOUR KIDS. WHAT HISTORY ARE THEY TEACHING YOUR CHILDREN? WHAT MATH? W
 HAT IS THE CURRICULUM FOR CIVICS? OR HAS IT BEEN REMOVED? IF IT HAS, G
 ET IT BACK IN!\n\nREAD YOUR KIDS BOOKS AND ALERT YOUR FELLOW PATRIOTS 
 OF ANY BOOK THAT DEMONIZES CAPITALISM AND THE AMERICAN WAY OF LIFE. RE
 PORT BOOKS THAT CLAIM THAT THE AMERICAN PEOPLE ARE CRUEL AND RACISTS.\
 n\nMAKE THEM PUBLIC!\n\n\nIT IS TIME TO TAKE BACK OUR EDUCATIONAL SYST
 EM!\n\nNOW GO GET EM PATRIOTS!\n\nFor more information visit https://s
 crantonteaparty.org/events/lakeland-school-board-meeting
DTSTART:20100915T230000Z
DTEND:20100916T000000Z
CATEGORIES:"school board meeting"
LOCATION:\"Lakeland\"
WEBSITE:http://lakelandsd.schoolwires.net/lhs/site/default.asp
URL:http://lakelandsd.schoolwires.net/lhs/site/default.asp
CONTACT:254-9485
ORGANIZER;CN=Laureen:https://scrantonteaparty.org/profile/Laureen
ATTACH;FMTTYPE="image/jpeg":
ATTENDEE;ROLE=REQ-PARTICIPANT;PARTSTAT=ACCEPTED;RSVP=TRUE;CN="Donald W
 right MD":https://scrantonteaparty.org/profile/DonaldWrightMD
ATTENDEE;ROLE=REQ-PARTICIPANT;PARTSTAT=ACCEPTED;RSVP=TRUE;CN=Laureen:h
 ttps://scrantonteaparty.org/profile/Laureen
END:VEVENT
END:VCALENDAR
