BEGIN:VCALENDAR
PRODID:NingEventWidget-v1
VERSION:2.0
METHOD:PUBLISH
BEGIN:VEVENT
UID:3240163:Event:1922
DTSTAMP:20260422T045121Z
SUMMARY:Lee Morgan for State Rep in 112th District meet up
DESCRIPTION:Come out and join us for a campaign rally at\nThe Glass On
 ion\n1018 Prescott Avenue\nScranton, Pa\nThursday, Sept. 2\n7-9PM\n$10
  Admission\nFood and refreshments will be served.\n\nPass the word alo
 ng to your family and friends!\n\nFor more information visit https://s
 crantonteaparty.org/events/lee-morgan-for-state-rep-in
DTSTART:20100911T230000Z
DTEND:20100912T010000Z
CATEGORIES:"campaign rally"
LOCATION:\"The Glass Onion\"
WEBSITE:
URL:
CONTACT:780-8651
ORGANIZER;CN=Laureen:https://scrantonteaparty.org/profile/Laureen
ATTACH;FMTTYPE="image/jpeg":
ATTENDEE;ROLE=REQ-PARTICIPANT;PARTSTAT=ACCEPTED;RSVP=TRUE;CN="Robert S
 chmader":https://scrantonteaparty.org/profile/RobertSchmader
ATTENDEE;ROLE=REQ-PARTICIPANT;PARTSTAT=ACCEPTED;RSVP=TRUE;CN="Lourdes 
 Swarts":https://scrantonteaparty.org/profile/LourdesSwarts
ATTENDEE;ROLE=REQ-PARTICIPANT;PARTSTAT=ACCEPTED;RSVP=TRUE;CN="Bobby Su
 llivan":https://scrantonteaparty.org/profile/BobbySullivan
ATTENDEE;ROLE=REQ-PARTICIPANT;PARTSTAT=ACCEPTED;RSVP=TRUE;CN=Laureen:h
 ttps://scrantonteaparty.org/profile/Laureen
END:VEVENT
END:VCALENDAR
