BEGIN:VCALENDAR
PRODID:NingEventWidget-v1
VERSION:2.0
METHOD:PUBLISH
BEGIN:VEVENT
UID:3240163:Event:2556
DTSTAMP:20260422T050306Z
SUMMARY:Old Forge School Board Meeting 09/15/2010 @  7pm
DESCRIPTION:Just to let all of you Old Forge Tea Partiers know our sch
 ool board meeting is September 15, 2010 at 7pm.\n\nI expect all of you
  to be there to ask the questions of these school directors to find ou
 t what they are doing about the marxist agenda that has infiltrated ou
 r Public School systems. And to make sure that the Progressives aren't
  able to continue their infiltration of our local school districts.\n\
 nWE MUST BE THE WATCHDOG FOR OUR CHILDREN SINCE WE NOW KNOW THAT THE T
 EACHERS AND SHOOL BOARDS HAVE NOT BEEN!\n\nALL PATRIOTS MUST BE AT THE
 RE LOCAL SCHOOL BOARD MEETINGS AND FIND OUT WHAT THE AGENDA IS FOR YOU
 R KIDS. WHAT HISTORY ARE THEY TEACHING YOUR CHILDREN? WHAT MATH? WHAT 
 IS THE CURRICULUM FOR CIVICS? OR HAS IT BEEN REMOVED? IF IT HAS, GET I
 T BACK IN!\n\nREAD YOUR KIDS BOOKS AND ALERT YOUR FELLOW PATRIOTS OF A
 NY BOOK THAT DEMONIZES CAPITALISM AND THE AMERICAN WAY OF LIFE. REPORT
  BOOKS THAT CLAIM THAT THE AMERICAN PEOPLE ARE CRUEL AND RACISTS.\n\nM
 AKE THEM PUBLIC!\n\n\nIT IS TIME TO TAKE BACK OUR EDUCATIONAL SYSTEM!\
 n\nNOW GO GET EM PATRIOTS!\n\nFor more information visit https://scran
 tonteaparty.org/events/old-forge-school-board-meeting
DTSTART:20100915T230000Z
DTEND:20100916T000000Z
CATEGORIES:education
LOCATION:\"Old Forge Jr./Sr. Highschool\"
WEBSITE:
URL:
CONTACT:570-780-8651
ORGANIZER;CN=Laureen:https://scrantonteaparty.org/profile/Laureen
ATTACH;FMTTYPE="image/jpeg":
ATTENDEE;ROLE=REQ-PARTICIPANT;PARTSTAT=ACCEPTED;RSVP=TRUE;CN=Laureen:h
 ttps://scrantonteaparty.org/profile/Laureen
END:VEVENT
END:VCALENDAR
