BEGIN:VCALENDAR
PRODID:NingEventWidget-v1
VERSION:2.0
METHOD:PUBLISH
BEGIN:VEVENT
UID:3240163:Event:2570
DTSTAMP:20260422T050234Z
SUMMARY:Valley View School Board meeting 9/20/2010
DESCRIPTION:Just to let all of you Valley View area (Valley View Blake
 ly and Archbald areas)Tea Partiers know your school board meeting is S
 eptember 20, 2010 at 7pm.\n\nI expect all of you to be there to ask th
 e questions of these school directors to find out what they are doing 
 about the marxist agenda that has infiltrated our Public School system
 s. And to make sure that the Progressives aren't able to continue thei
 r infiltration of our local school districts.\n\nWE MUST BE THE WATCHD
 OG FOR OUR CHILDREN SINCE WE NOW KNOW THAT THE TEACHERS AND SHOOL BOAR
 DS HAVE NOT BEEN!\n\nALL PATRIOTS MUST BE AT THERE LOCAL SCHOOL BOARD 
 MEETINGS AND FIND OUT WHAT THE AGENDA IS FOR YOUR KIDS. WHAT HISTORY A
 RE THEY TEACHING YOUR CHILDREN? WHAT MATH? WHAT IS THE CURRICULUM FOR 
 CIVICS? OR HAS IT BEEN REMOVED? IF IT HAS, GET IT BACK IN!\n\nREAD YOU
 R KIDS BOOKS AND ALERT YOUR FELLOW PATRIOTS OF ANY BOOK THAT DEMONIZES
  CAPITALISM AND THE AMERICAN WAY OF LIFE. REPORT BOOKS THAT CLAIM THAT
  THE AMERICAN PEOPLE ARE CRUEL AND RACISTS.\n\nMAKE THEM PUBLIC!\n\n\n
 IT IS TIME TO TAKE BACK OUR EDUCATIONAL SYSTEM!\n\nNOW GO GET EM PATRI
 OTS!\n\nFor more information visit https://scrantonteaparty.org/events
 /valley-view-school-board
DTSTART:20100915T230000Z
DTEND:20100916T000000Z
CATEGORIES:"school board meeting"
LOCATION:\"Valley View School district\"
WEBSITE:
URL:
CONTACT:876-5080
ORGANIZER;CN=Laureen:https://scrantonteaparty.org/profile/Laureen
ATTACH;FMTTYPE="image/jpeg":
ATTENDEE;ROLE=REQ-PARTICIPANT;PARTSTAT=ACCEPTED;RSVP=TRUE;CN=Laureen:h
 ttps://scrantonteaparty.org/profile/Laureen
END:VEVENT
END:VCALENDAR
